BEGIN:VCALENDAR
VERSION:2.0
PRODID:-//jEvents 2.0 for Joomla//EN
CALSCALE:GREGORIAN
METHOD:PUBLISH
BEGIN:VEVENT
UID:8ef1de45d8b4c3cc54a060f3daa3052f
CATEGORIES:Veranstaltungen
CREATED:20221024T105827
SUMMARY:Nacht der Projekte
DESCRIPTION:
DTSTAMP:20260425T190802
DTSTART:20230330T153000
DTEND:20230330T190000
SEQUENCE:0
TRANSP:OPAQUE
END:VEVENT
END:VCALENDAR