BEGIN:VCALENDAR
VERSION:2.0
PRODID:-//jEvents 2.0 for Joomla//EN
CALSCALE:GREGORIAN
METHOD:PUBLISH
BEGIN:VEVENT
UID:d8978c93961a74b92959020d727c5fe1
CATEGORIES:Veranstaltungen
CREATED:20221024T105725
SUMMARY:Unsinniger Donnerstag
DESCRIPTION:
DTSTAMP:20260425T185149
DTSTART:20230216T110000
DTEND:20230216T160000
SEQUENCE:0
TRANSP:OPAQUE
END:VEVENT
END:VCALENDAR