BEGIN:VCALENDAR
VERSION:2.0
PRODID:-//jEvents 2.0 for Joomla//EN
CALSCALE:GREGORIAN
METHOD:PUBLISH
BEGIN:VEVENT
UID:99d1db43b9b77bc1e6efa282b5b43ad5
CATEGORIES:Veranstaltungen
CREATED:20221024T105541
SUMMARY:Anmeldefrist für das Schuljahr 2023/24
DESCRIPTION:
DTSTAMP:20260425T185453
DTSTART:20230220T070000
DTEND:20230303T150000
SEQUENCE:0
TRANSP:OPAQUE
END:VEVENT
END:VCALENDAR