BEGIN:VCALENDAR
VERSION:2.0
PRODID:-//jEvents 2.0 for Joomla//EN
CALSCALE:GREGORIAN
METHOD:PUBLISH
BEGIN:VEVENT
UID:ab1be0364d0e822b7ceeb3e58daf3b4d
CATEGORIES:Veranstaltungen
CREATED:20221024T105311
SUMMARY:Anmeldefrist für das Schuljahr 2023/24
DESCRIPTION:
DTSTAMP:20260425T203911
DTSTART:20230213T080000
DTEND:20230214T110000
SEQUENCE:0
TRANSP:OPAQUE
END:VEVENT
END:VCALENDAR