BEGIN:VCALENDAR
VERSION:2.0
PRODID:-//jEvents 2.0 for Joomla//EN
CALSCALE:GREGORIAN
METHOD:PUBLISH
BEGIN:VEVENT
UID:30567e08c9170c5288a3692fdbe5c7c3
CATEGORIES:Veranstaltungen
CREATED:20221024T105142
SUMMARY:Beginn der Anmeldefrist für das Schuljahr 2023/24
DESCRIPTION:
DTSTAMP:20260425T152510
DTSTART:20230210T070000
DTEND:20230210T140000
SEQUENCE:0
TRANSP:OPAQUE
END:VEVENT
END:VCALENDAR