BEGIN:VCALENDAR
VERSION:2.0
PRODID:-//jEvents 2.0 for Joomla//EN
CALSCALE:GREGORIAN
METHOD:PUBLISH
BEGIN:VEVENT
UID:d4b491ba79c81529785829274e9c8f46
CATEGORIES:Veranstaltungen
CREATED:20221024T104836
SUMMARY:Klassenfahrt der 5a nach Wien
DESCRIPTION:
DTSTAMP:20260425T204329
DTSTART:20221107T070000
DTEND:20221111T160000
SEQUENCE:0
TRANSP:OPAQUE
END:VEVENT
END:VCALENDAR