BEGIN:VCALENDAR
VERSION:2.0
PRODID:-//jEvents 2.0 for Joomla//EN
CALSCALE:GREGORIAN
METHOD:PUBLISH
BEGIN:VEVENT
UID:d1ee5ea40dc567980f332113fa89648d
CATEGORIES:Veranstaltungen
CREATED:20221024T075310
SUMMARY:Schüleraustausch Reutte in Cles
DESCRIPTION:
DTSTAMP:20260425T185311
DTSTART:20230227T070000
DTEND:20230303T160000
SEQUENCE:0
TRANSP:OPAQUE
END:VEVENT
END:VCALENDAR