BEGIN:VCALENDAR
VERSION:2.0
PRODID:-//jEvents 2.0 for Joomla//EN
CALSCALE:GREGORIAN
METHOD:PUBLISH
BEGIN:VEVENT
UID:56a57a45f4a7b9249a504953dc389974
CATEGORIES:Veranstaltungen
CREATED:20221024T075235
SUMMARY:Schüleraustausch Cles in Reutte
DESCRIPTION:
DTSTAMP:20260425T153726
DTSTART:20230130T070000
DTEND:20230203T110000
SEQUENCE:0
TRANSP:OPAQUE
END:VEVENT
END:VCALENDAR