BEGIN:VCALENDAR
VERSION:2.0
PRODID:-//jEvents 2.0 for Joomla//EN
CALSCALE:GREGORIAN
METHOD:PUBLISH
BEGIN:VEVENT
UID:c2f7f08c046f8a6bf64cccebf1ca116e
CATEGORIES:Veranstaltungen
CREATED:20221011T145543
SUMMARY:Tiroler Hochschultag an der HAK und HLW
DESCRIPTION:
DTSTAMP:20260425T204254
DTSTART:20221118T085000
DTEND:20221118T104000
SEQUENCE:0
TRANSP:OPAQUE
END:VEVENT
END:VCALENDAR