BEGIN:VCALENDAR
VERSION:2.0
PRODID:-//jEvents 2.0 for Joomla//EN
CALSCALE:GREGORIAN
METHOD:PUBLISH
BEGIN:VEVENT
UID:280b8631a83a065caae17351161d48f0
CATEGORIES:Veranstaltungen
CREATED:20221004T090630
SUMMARY:1.pädagogische Konferenz
DESCRIPTION:
DTSTAMP:20260425T222039
DTSTART:20221012T121500
DTEND:20221012T150000
SEQUENCE:0
TRANSP:OPAQUE
END:VEVENT
END:VCALENDAR