BEGIN:VCALENDAR
VERSION:2.0
PRODID:-//jEvents 2.0 for Joomla//EN
CALSCALE:GREGORIAN
METHOD:PUBLISH
BEGIN:VEVENT
UID:d743fe2ef359e9f4a22849ef8800035c
CATEGORIES:Veranstaltungen
CREATED:20220929T173118
SUMMARY:Elternaben HLW (1. Klassen)
DESCRIPTION:
DTSTAMP:20260425T223949
DTSTART:20221017T163000
DTEND:20221017T180000
SEQUENCE:0
TRANSP:OPAQUE
END:VEVENT
END:VCALENDAR