BEGIN:VCALENDAR
VERSION:2.0
PRODID:-//jEvents 2.0 for Joomla//EN
CALSCALE:GREGORIAN
METHOD:PUBLISH
BEGIN:VEVENT
UID:c5e35099978b58e5adb55de294d6c036
CATEGORIES:Veranstaltungen
CREATED:20220929T172740
SUMMARY:Elternabend HAK (1. Klasse)
DESCRIPTION:
DTSTAMP:20260425T222250
DTSTART:20221011T153000
DTEND:20221011T173000
SEQUENCE:0
TRANSP:OPAQUE
END:VEVENT
END:VCALENDAR