BEGIN:VCALENDAR
VERSION:2.0
PRODID:-//jEvents 2.0 for Joomla//EN
CALSCALE:GREGORIAN
METHOD:PUBLISH
BEGIN:VEVENT
UID:5d1f50443474637afcf45abe55765ec1
CATEGORIES:Veranstaltungen
CREATED:20220929T172444
SUMMARY:Elternabend HTL (1. Klasse)
DESCRIPTION:
DTSTAMP:20260425T222100
DTSTART:20221013T160000
DTEND:20221013T180000
SEQUENCE:0
TRANSP:OPAQUE
END:VEVENT
END:VCALENDAR