BEGIN:VCALENDAR
VERSION:2.0
PRODID:-//jEvents 2.0 for Joomla//EN
CALSCALE:GREGORIAN
METHOD:PUBLISH
BEGIN:VEVENT
UID:cd94f085beb2e67b451aaf6342dd4150
CATEGORIES:Veranstaltungen
CREATED:20220912T104829
SUMMARY:HTL Eröffnungskonferenz
DESCRIPTION:<p>Ort: HAK Reutte</p>
DTSTAMP:20260426T000353
DTSTART:20220914T120000
DTEND:20220914T123000
SEQUENCE:0
TRANSP:OPAQUE
END:VEVENT
END:VCALENDAR