BEGIN:VCALENDAR
VERSION:2.0
PRODID:-//jEvents 2.0 for Joomla//EN
CALSCALE:GREGORIAN
METHOD:PUBLISH
BEGIN:VEVENT
UID:299571049608cb8c05c8ec9454327be4
CATEGORIES:Veranstaltungen
CREATED:20220908T101628
SUMMARY:Elternsprechtag
DESCRIPTION:
DTSTAMP:20260425T203944
DTSTART:20221124T153000
DTEND:20221124T183000
SEQUENCE:0
TRANSP:OPAQUE
END:VEVENT
END:VCALENDAR