BEGIN:VCALENDAR
VERSION:2.0
PRODID:-//jEvents 2.0 for Joomla//EN
CALSCALE:GREGORIAN
METHOD:PUBLISH
BEGIN:VEVENT
UID:eaf19eff3efe536693a4b0187f59c647
CATEGORIES:Veranstaltungen
CREATED:20220908T101510
SUMMARY:SGA-Elternvertreterwahlen 
DESCRIPTION:
DTSTAMP:20260425T203849
DTSTART:20221117T070000
DTEND:20221117T110000
SEQUENCE:0
TRANSP:OPAQUE
END:VEVENT
END:VCALENDAR