BEGIN:VCALENDAR
VERSION:2.0
PRODID:-//jEvents 2.0 for Joomla//EN
CALSCALE:GREGORIAN
METHOD:PUBLISH
BEGIN:VEVENT
UID:f90e73fa27dbc3da8c3be4ac82c9eed0
CATEGORIES:Veranstaltungen
CREATED:20220908T101416
SUMMARY:1.Nebentermin mündliche Prüfungen RDP und AP
DESCRIPTION:
DTSTAMP:20260425T223927
DTSTART:20221019T060000
DTEND:20221019T150000
SEQUENCE:0
TRANSP:OPAQUE
END:VEVENT
END:VCALENDAR