BEGIN:VCALENDAR
VERSION:2.0
PRODID:-//jEvents 2.0 for Joomla//EN
CALSCALE:GREGORIAN
METHOD:PUBLISH
BEGIN:VEVENT
UID:2adcf4fa9b9545723d3d5d0636f4437e
CATEGORIES:Veranstaltungen
CREATED:20220908T101251
SUMMARY:Schulsprecherwahlen
DESCRIPTION:
DTSTAMP:20260425T223749
DTSTART:20221018T060000
DTEND:20221018T100000
SEQUENCE:0
TRANSP:OPAQUE
END:VEVENT
END:VCALENDAR