BEGIN:VCALENDAR
VERSION:2.0
PRODID:-//jEvents 2.0 for Joomla//EN
CALSCALE:GREGORIAN
METHOD:PUBLISH
BEGIN:VEVENT
UID:f6e487ce9c3ea5dc855a940ee833b443
CATEGORIES:Veranstaltungen
CREATED:20220908T101222
SUMMARY:1.Nebentermin mündl. Kompensationsprüfungen
DESCRIPTION:
DTSTAMP:20260425T222230
DTSTART:20221012T060000
DTEND:20221012T100000
SEQUENCE:0
TRANSP:OPAQUE
END:VEVENT
END:VCALENDAR