BEGIN:VCALENDAR
VERSION:2.0
PRODID:-//jEvents 2.0 for Joomla//EN
CALSCALE:GREGORIAN
METHOD:PUBLISH
BEGIN:VEVENT
UID:5411675a5c551689f06d95192a90f40a
CATEGORIES:Veranstaltungen
CREATED:20220908T100859
SUMMARY:1. Nebentermin RDP BFK
DESCRIPTION:
DTSTAMP:20260426T000354
DTSTART:20220926T060000
DTEND:20220926T100000
SEQUENCE:0
TRANSP:OPAQUE
END:VEVENT
END:VCALENDAR