BEGIN:VCALENDAR
VERSION:2.0
PRODID:-//jEvents 2.0 for Joomla//EN
CALSCALE:GREGORIAN
METHOD:PUBLISH
BEGIN:VEVENT
UID:24478eadf7826ae3d37097b50a784e0b
CATEGORIES:Veranstaltungen
CREATED:20220908T100737
SUMMARY:1.Nebentermin AP ÜFA
DESCRIPTION:
DTSTAMP:20260426T000026
DTSTART:20220919T060000
DTEND:20220919T100000
SEQUENCE:0
TRANSP:OPAQUE
END:VEVENT
END:VCALENDAR