BEGIN:VCALENDAR
VERSION:2.0
PRODID:-//jEvents 2.0 for Joomla//EN
CALSCALE:GREGORIAN
METHOD:PUBLISH
BEGIN:VEVENT
UID:159731fba0f09b155025c6ff3410f4f7
CATEGORIES:Veranstaltungen
CREATED:20220908T100502
SUMMARY:Konferenz 1.Nebentermin RDP und AP
DESCRIPTION:
DTSTAMP:20260425T223553
DTSTART:20221003T084000
DTEND:20221003T085500
SEQUENCE:0
TRANSP:OPAQUE
END:VEVENT
END:VCALENDAR