BEGIN:VCALENDAR
VERSION:2.0
PRODID:-//jEvents 2.0 for Joomla//EN
CALSCALE:GREGORIAN
METHOD:PUBLISH
BEGIN:VEVENT
UID:2081584bbe406ac6ba34ad50a4848274
CATEGORIES:Veranstaltungen
CREATED:20220713T101608
SUMMARY:Schulbeginn IV.HLW
DESCRIPTION:
DTSTAMP:20260425T235921
DTSTART:20221003T060000
DTEND:20221003T120000
SEQUENCE:0
TRANSP:OPAQUE
END:VEVENT
END:VCALENDAR