BEGIN:VCALENDAR
VERSION:2.0
PRODID:-//jEvents 2.0 for Joomla//EN
CALSCALE:GREGORIAN
METHOD:PUBLISH
BEGIN:VEVENT
UID:e55da2400f285d32d42f57ba9051ac92
CATEGORIES:Veranstaltungen
CREATED:20220713T101532
SUMMARY:Wiederholungsprüfungen IV.HLW
DESCRIPTION:
DTSTAMP:20260426T000028
DTSTART:20221003T060000
DTEND:20221003T120000
SEQUENCE:0
TRANSP:OPAQUE
END:VEVENT
END:VCALENDAR