BEGIN:VCALENDAR
VERSION:2.0
PRODID:-//jEvents 2.0 for Joomla//EN
CALSCALE:GREGORIAN
METHOD:PUBLISH
BEGIN:VEVENT
UID:6495a305bd55352fbd38517bfbdbb818
CATEGORIES:Veranstaltungen
CREATED:20220713T101446
SUMMARY:Wiederholungsprüfungen
DESCRIPTION:
DTSTAMP:20260426T000025
DTSTART:20220912T060000
DTEND:20220913T150000
SEQUENCE:0
TRANSP:OPAQUE
END:VEVENT
END:VCALENDAR