BEGIN:VCALENDAR
VERSION:2.0
PRODID:-//jEvents 2.0 for Joomla//EN
CALSCALE:GREGORIAN
METHOD:PUBLISH
BEGIN:VEVENT
UID:5c0f3781f14d3b768878534e989fe01c
CATEGORIES:Veranstaltungen
CREATED:20220713T101316
SUMMARY:Rotarylauf - autofreier Tag
DESCRIPTION:
DTSTAMP:20260426T000322
DTSTART:20220922T120000
DTEND:20220922T150000
SEQUENCE:0
TRANSP:OPAQUE
END:VEVENT
END:VCALENDAR