BEGIN:VCALENDAR
VERSION:2.0
PRODID:-//jEvents 2.0 for Joomla//EN
CALSCALE:GREGORIAN
METHOD:PUBLISH
BEGIN:VEVENT
UID:fe856a21dbe3190c3d5da7c6593339ba
CATEGORIES:Veranstaltungen
CREATED:20220713T100858
SUMMARY:Fototermin für HAK und HLW
DESCRIPTION:
DTSTAMP:20260426T000027
DTSTART:20221013T060000
DTEND:20221014T120000
SEQUENCE:0
TRANSP:OPAQUE
END:VEVENT
END:VCALENDAR