BEGIN:VCALENDAR
VERSION:2.0
PRODID:-//jEvents 2.0 for Joomla//EN
CALSCALE:GREGORIAN
METHOD:PUBLISH
BEGIN:VEVENT
UID:1a81a7c85cc5a67a41c0cfa8a96f7830
CATEGORIES:Veranstaltungen
CREATED:20220713T100752
SUMMARY:1.Nebentermin RDP Französisch
DESCRIPTION:
DTSTAMP:20260426T020635
DTSTART:20220923T060000
DTEND:20220923T100000
SEQUENCE:0
TRANSP:OPAQUE
END:VEVENT
END:VCALENDAR