BEGIN:VCALENDAR
VERSION:2.0
PRODID:-//jEvents 2.0 for Joomla//EN
CALSCALE:GREGORIAN
METHOD:PUBLISH
BEGIN:VEVENT
UID:0ebf6d472f393630da7b8e15e3154eb2
CATEGORIES:Veranstaltungen
CREATED:20220713T100711
SUMMARY:1.Nebentermin RDP Englisch
DESCRIPTION:
DTSTAMP:20260426T000030
DTSTART:20220922T060000
DTEND:20220922T100000
SEQUENCE:0
TRANSP:OPAQUE
END:VEVENT
END:VCALENDAR