BEGIN:VCALENDAR
VERSION:2.0
PRODID:-//jEvents 2.0 for Joomla//EN
CALSCALE:GREGORIAN
METHOD:PUBLISH
BEGIN:VEVENT
UID:3d9b0081d1801bb978129c5593d6ae9e
CATEGORIES:Veranstaltungen
CREATED:20220713T100601
SUMMARY:1.Nebentermin RDP und AP Deutsch
DESCRIPTION:
DTSTAMP:20260426T000029
DTSTART:20220921T060000
DTEND:20220921T100000
SEQUENCE:0
TRANSP:OPAQUE
END:VEVENT
END:VCALENDAR