BEGIN:VCALENDAR
VERSION:2.0
PRODID:-//jEvents 2.0 for Joomla//EN
CALSCALE:GREGORIAN
METHOD:PUBLISH
BEGIN:VEVENT
UID:4a6d4ef5e552cafd86609a585edd9d65
CATEGORIES:Veranstaltungen
CREATED:20220713T094708
SUMMARY:1.Nebentermin RDP Mathematik
DESCRIPTION:
DTSTAMP:20260426T000319
DTSTART:20220920T060000
DTEND:20220920T100000
SEQUENCE:0
TRANSP:OPAQUE
END:VEVENT
END:VCALENDAR