BEGIN:VCALENDAR
VERSION:2.0
PRODID:-//jEvents 2.0 for Joomla//EN
CALSCALE:GREGORIAN
METHOD:PUBLISH
BEGIN:VEVENT
UID:f2e45a21273e0b876faa39bd0e056a7f
CATEGORIES:Veranstaltungen
CREATED:20220713T094513
SUMMARY:Fototermin HTL-Klassen
DESCRIPTION:
DTSTAMP:20260426T000457
DTSTART:20220916T060000
DTEND:20220916T100000
SEQUENCE:0
TRANSP:OPAQUE
END:VEVENT
END:VCALENDAR