BEGIN:VCALENDAR
VERSION:2.0
PRODID:-//jEvents 2.0 for Joomla//EN
CALSCALE:GREGORIAN
METHOD:PUBLISH
BEGIN:VEVENT
UID:68864279a279f7caf3ae66f70c3c781e
CATEGORIES:Ferien-Feiertage
CREATED:20220708T110910
SUMMARY:4. Autonomtag
DESCRIPTION:
DTSTAMP:20260425T224335
DTSTART;VALUE=DATE:20230609
DTEND;VALUE=DATE:20230610
SEQUENCE:0
TRANSP:OPAQUE
END:VEVENT
END:VCALENDAR