BEGIN:VCALENDAR
VERSION:2.0
PRODID:-//jEvents 2.0 for Joomla//EN
CALSCALE:GREGORIAN
METHOD:PUBLISH
BEGIN:VEVENT
UID:d7e5eefa592a91ea6fa25e4e53d1d395
CATEGORIES:Ferien-Feiertage
CREATED:20220708T110801
SUMMARY:3. Autonomtag
DESCRIPTION:
DTSTAMP:20260425T205258
DTSTART;VALUE=DATE:20230519
DTEND;VALUE=DATE:20230520
SEQUENCE:0
TRANSP:OPAQUE
END:VEVENT
END:VCALENDAR