BEGIN:VCALENDAR
VERSION:2.0
PRODID:-//jEvents 2.0 for Joomla//EN
CALSCALE:GREGORIAN
METHOD:PUBLISH
BEGIN:VEVENT
UID:7d10485a65c1851095aea598a31230cd
CATEGORIES:Ferien-Feiertage
CREATED:20220708T110632
SUMMARY:1. Autonomtag
DESCRIPTION:
DTSTAMP:20260425T222722
DTSTART;VALUE=DATE:20221209
DTEND;VALUE=DATE:20221210
SEQUENCE:0
TRANSP:OPAQUE
END:VEVENT
END:VCALENDAR