BEGIN:VCALENDAR
VERSION:2.0
PRODID:-//jEvents 2.0 for Joomla//EN
CALSCALE:GREGORIAN
METHOD:PUBLISH
BEGIN:VEVENT
UID:1f66ca1ef8355f8f57398c733b20ab0c
CATEGORIES:Ferien-Feiertage
CREATED:20220708T105825
SUMMARY:Weihnachtsferien
DESCRIPTION:
DTSTAMP:20260425T172753
DTSTART;VALUE=DATE:20221224
DTEND;VALUE=DATE:20230107
SEQUENCE:0
TRANSP:OPAQUE
END:VEVENT
END:VCALENDAR