BEGIN:VCALENDAR
VERSION:2.0
PRODID:-//jEvents 2.0 for Joomla//EN
CALSCALE:GREGORIAN
METHOD:PUBLISH
BEGIN:VEVENT
UID:68800c694cedd5c3cf9a917cb98c9f72
CATEGORIES:Ferien-Feiertage
CREATED:20220708T105646
SUMMARY:Ferienbeginn
DESCRIPTION:
DTSTAMP:20260425T223946
DTSTART;VALUE=DATE:20230708
DTEND;VALUE=DATE:20230709
SEQUENCE:0
TRANSP:OPAQUE
END:VEVENT
END:VCALENDAR