BEGIN:VCALENDAR
VERSION:2.0
PRODID:-//jEvents 2.0 for Joomla//EN
CALSCALE:GREGORIAN
METHOD:PUBLISH
BEGIN:VEVENT
UID:6dea3b89b8ca4d6066a0486f250e98bd
CATEGORIES:Ferien-Feiertage
CREATED:20220708T105559
SUMMARY:Fronleichnam
DESCRIPTION:
DTSTAMP:20260425T224527
DTSTART;VALUE=DATE:20230608
DTEND;VALUE=DATE:20230609
SEQUENCE:0
TRANSP:OPAQUE
END:VEVENT
END:VCALENDAR