BEGIN:VCALENDAR
VERSION:2.0
PRODID:-//jEvents 2.0 for Joomla//EN
CALSCALE:GREGORIAN
METHOD:PUBLISH
BEGIN:VEVENT
UID:93edf66cbe436a00630022377bef6dc2
CATEGORIES:Ferien-Feiertage
CREATED:20220708T105522
SUMMARY:Pfingst-Ferien
DESCRIPTION:
DTSTAMP:20260425T205309
DTSTART;VALUE=DATE:20230527
DTEND;VALUE=DATE:20230530
SEQUENCE:0
TRANSP:OPAQUE
END:VEVENT
END:VCALENDAR