BEGIN:VCALENDAR
VERSION:2.0
PRODID:-//jEvents 2.0 for Joomla//EN
CALSCALE:GREGORIAN
METHOD:PUBLISH
BEGIN:VEVENT
UID:4ada1e7a2a2fed78b1dee69181a146a0
CATEGORIES:Ferien-Feiertage
CREATED:20220708T105427
SUMMARY:Christi Himmelfahrt
DESCRIPTION:
DTSTAMP:20260425T205459
DTSTART;VALUE=DATE:20230518
DTEND;VALUE=DATE:20230519
SEQUENCE:0
TRANSP:OPAQUE
END:VEVENT
END:VCALENDAR