BEGIN:VCALENDAR
VERSION:2.0
PRODID:-//jEvents 2.0 for Joomla//EN
CALSCALE:GREGORIAN
METHOD:PUBLISH
BEGIN:VEVENT
UID:8dc05231e3eccb7fe24bf3ec5cb805e5
CATEGORIES:Ferien-Feiertage
CREATED:20220708T105340
SUMMARY:Staatsfeiertag
DESCRIPTION:
DTSTAMP:20260425T205458
DTSTART;VALUE=DATE:20230501
DTEND;VALUE=DATE:20230502
SEQUENCE:0
TRANSP:OPAQUE
END:VEVENT
END:VCALENDAR