BEGIN:VCALENDAR
VERSION:2.0
PRODID:-//jEvents 2.0 for Joomla//EN
CALSCALE:GREGORIAN
METHOD:PUBLISH
BEGIN:VEVENT
UID:a1edb067855408e53e40c68c7ec7ec69
CATEGORIES:Ferien-Feiertage
CREATED:20220708T105257
SUMMARY:Osterferien
DESCRIPTION:
DTSTAMP:20260425T191118
DTSTART;VALUE=DATE:20230401
DTEND;VALUE=DATE:20230411
SEQUENCE:0
TRANSP:OPAQUE
END:VEVENT
END:VCALENDAR