BEGIN:VCALENDAR
VERSION:2.0
PRODID:-//jEvents 2.0 for Joomla//EN
CALSCALE:GREGORIAN
METHOD:PUBLISH
BEGIN:VEVENT
UID:e405171d364d500c1f1f4b8763b42c30
CATEGORIES:Ferien-Feiertage
CREATED:20220708T104723
SUMMARY:Semesterferien
DESCRIPTION:
DTSTAMP:20260425T173719
DTSTART;VALUE=DATE:20230213
DTEND;VALUE=DATE:20230218
SEQUENCE:0
TRANSP:OPAQUE
END:VEVENT
END:VCALENDAR