BEGIN:VCALENDAR
VERSION:2.0
PRODID:-//jEvents 2.0 for Joomla//EN
CALSCALE:GREGORIAN
METHOD:PUBLISH
BEGIN:VEVENT
UID:81a17f13de97f5faa7c174f50e5c058d
CATEGORIES:Ferien-Feiertage
CREATED:20220708T104456
SUMMARY:Maria Empfängnis
DESCRIPTION:
DTSTAMP:20260425T205315
DTSTART;VALUE=DATE:20221208
DTEND;VALUE=DATE:20221209
SEQUENCE:0
TRANSP:OPAQUE
END:VEVENT
END:VCALENDAR