BEGIN:VCALENDAR
VERSION:2.0
PRODID:-//jEvents 2.0 for Joomla//EN
CALSCALE:GREGORIAN
METHOD:PUBLISH
BEGIN:VEVENT
UID:0ece73cbcafaa5d87f90b0ca559099f5
CATEGORIES:Ferien-Feiertage
CREATED:20220708T104340
SUMMARY:Allerseelen
DESCRIPTION:
DTSTAMP:20260425T224009
DTSTART;VALUE=DATE:20221102
DTEND;VALUE=DATE:20221103
SEQUENCE:0
TRANSP:OPAQUE
END:VEVENT
END:VCALENDAR