BEGIN:VCALENDAR
VERSION:2.0
PRODID:-//jEvents 2.0 for Joomla//EN
CALSCALE:GREGORIAN
METHOD:PUBLISH
BEGIN:VEVENT
UID:7aec718ccec1459c29b80fa7015d0557
CATEGORIES:Ferien-Feiertage
CREATED:20220708T104248
SUMMARY:Allerheiligen
DESCRIPTION:
DTSTAMP:20260425T224007
DTSTART;VALUE=DATE:20221101
DTEND;VALUE=DATE:20221102
SEQUENCE:0
TRANSP:OPAQUE
END:VEVENT
END:VCALENDAR