BEGIN:VCALENDAR
VERSION:2.0
PRODID:-//jEvents 2.0 for Joomla//EN
CALSCALE:GREGORIAN
METHOD:PUBLISH
BEGIN:VEVENT
UID:d767a63c8a699b9f1aa2cbe15fed6254
CATEGORIES:Ferien-Feiertage
CREATED:20220708T104044
SUMMARY:Herbstferien
DESCRIPTION:
DTSTAMP:20260426T002325
DTSTART;VALUE=DATE:20221027
DTEND;VALUE=DATE:20221101
SEQUENCE:0
TRANSP:OPAQUE
END:VEVENT
END:VCALENDAR