BEGIN:VCALENDAR
VERSION:2.0
PRODID:-//jEvents 2.0 for Joomla//EN
CALSCALE:GREGORIAN
METHOD:PUBLISH
BEGIN:VEVENT
UID:b73bbe8cc66824dcf58457f666c4541a
CATEGORIES:Termine
CREATED:20220708T103927
SUMMARY:Nationalfeiertag
DESCRIPTION:
DTSTAMP:20260426T002126
DTSTART;VALUE=DATE:20221026
DTEND;VALUE=DATE:20221027
SEQUENCE:0
TRANSP:OPAQUE
END:VEVENT
END:VCALENDAR