BEGIN:VCALENDAR
VERSION:2.0
PRODID:-//jEvents 2.0 for Joomla//EN
CALSCALE:GREGORIAN
METHOD:PUBLISH
BEGIN:VEVENT
UID:58307bfa662134e536f3f8093476eccc
CATEGORIES:Veranstaltungen
CREATED:20220708T102207
SUMMARY:HAK HLW Eröffnungs-Konferenz
DESCRIPTION:Ort: HAK Reutte\n
X-ALT-DESC;FMTTYPE=text/html:<p>Ort: HAK Reutte</p>
DTSTAMP:20260425T235853
DTSTART:20220914T123000
DTEND:20220914T160000
SEQUENCE:0
TRANSP:OPAQUE
END:VEVENT
END:VCALENDAR