BEGIN:VCALENDAR
VERSION:2.0
PRODID:-//jEvents 2.0 for Joomla//EN
CALSCALE:GREGORIAN
METHOD:PUBLISH
BEGIN:VEVENT
UID:cf21adfb0d28afa461fefe8735a7de5d
CATEGORIES:Veranstaltungen
CREATED:20220708T102026
SUMMARY:Neulehrerbesprechung
DESCRIPTION:
DTSTAMP:20260426T000229
DTSTART:20220912T120000
DTEND:20220912T140000
SEQUENCE:0
TRANSP:OPAQUE
END:VEVENT
END:VCALENDAR